BEGIN:VCALENDAR
VERSION:2.0
PRODID:-//wp-events-plugin.com//7.2.3.1//EN
TZID:Europe/Paris
X-WR-TIMEZONE:Europe/Paris
BEGIN:VEVENT
UID:165@photos-cormeilles.fr
DTSTART;TZID=Europe/Paris:20230701T100000
DTEND;TZID=Europe/Paris:20230702T170000
DTSTAMP:20230623T094946Z
URL:https://www.photos-cormeilles.fr/evenements/exposition-2023/
SUMMARY:Exposition 2023
DESCRIPTION:Notre exposition se déroule au château Lamazière\, l'entrée
  est libre et gratuite.\nOuverture :\n- Le samedi 1 juillet 2023 de 10h à
  18h\n- Le dimanche 2 juillet 2023 de 10h à 17h\nChaque visiteur a la pos
 sibilité de voter pour sa photo préférée et tentera de la gagner lors 
 d’un tirage au sort.
LOCATION:Château Lamazière\, 27 Rue Thibault Chabrand\, CORMEILLES EN PAR
 ISIS\, 95240\, France
X-APPLE-STRUCTURED-LOCATION;VALUE=URI;X-ADDRESS=27 Rue Thibault Chabrand\, 
 CORMEILLES EN PARISIS\, 95240\, France;X-APPLE-RADIUS=100;X-TITLE=Château
  Lamazière:geo:0,0
END:VEVENT
BEGIN:VTIMEZONE
TZID:Europe/Paris
X-LIC-LOCATION:Europe/Paris
BEGIN:DAYLIGHT
DTSTART:20230326T030000
TZOFFSETFROM:+0100
TZOFFSETTO:+0200
TZNAME:CEST
END:DAYLIGHT
END:VTIMEZONE
END:VCALENDAR