BEGIN:VCALENDAR
VERSION:2.0
PRODID:-//wp-events-plugin.com//7.2.3.1//EN
TZID:Europe/Paris
X-WR-TIMEZONE:Europe/Paris
BEGIN:VEVENT
UID:164@photos-cormeilles.fr
DTSTART;TZID=Europe/Paris:20230514T100000
DTEND;TZID=Europe/Paris:20230514T190000
DTSTAMP:20230502T112030Z
URL:https://www.photos-cormeilles.fr/evenements/fete-des-10-ans-du-club/
SUMMARY:Fête des 10 ans du club
DESCRIPTION:
LOCATION:Centre de Loisirs de la Côte Sainte-Avoie\, Route Stratégique\, 
 Cormeilles-en-Parisis\, 95240\, France
X-APPLE-STRUCTURED-LOCATION;VALUE=URI;X-ADDRESS=Route Stratégique\, Cormei
 lles-en-Parisis\, 95240\, France;X-APPLE-RADIUS=100;X-TITLE=Centre de Lois
 irs de la Côte Sainte-Avoie:geo:0,0
END:VEVENT
BEGIN:VTIMEZONE
TZID:Europe/Paris
X-LIC-LOCATION:Europe/Paris
BEGIN:DAYLIGHT
DTSTART:20230326T030000
TZOFFSETFROM:+0100
TZOFFSETTO:+0200
TZNAME:CEST
END:DAYLIGHT
END:VTIMEZONE
END:VCALENDAR