BEGIN:VCALENDAR
VERSION:2.0
PRODID:-//wp-events-plugin.com//7.2.3.1//EN
TZID:Europe/Paris
X-WR-TIMEZONE:Europe/Paris
BEGIN:VEVENT
UID:163@photos-cormeilles.fr
DTSTART;TZID=Europe/Paris:20220917T140000
DTEND;TZID=Europe/Paris:20220917T190000
DTSTAMP:20220903T073802Z
URL:https://www.photos-cormeilles.fr/evenements/studio-photo-pour-les-jour
 nees-du-patrimoine/
SUMMARY:Studio photo pour les journées du patrimoine
DESCRIPTION:Dans le cadre des journées du patrimoine\, nous installons un 
 studio photo dans l'école Saint-Exupéry afin de vous photographier avec 
 un objet ou un document symbolique\, photo qui pourrait ensuite rejoindre 
 la capsule temporelle.
LOCATION:Ecole Saint Exupery\, 6 Rue Saint--Exupéry\, Cormeilles-en-Parisi
 s\, 95240\, France
X-APPLE-STRUCTURED-LOCATION;VALUE=URI;X-ADDRESS=6 Rue Saint--Exupéry\, Cor
 meilles-en-Parisis\, 95240\, France;X-APPLE-RADIUS=100;X-TITLE=Ecole Saint
  Exupery:geo:0,0
END:VEVENT
BEGIN:VTIMEZONE
TZID:Europe/Paris
X-LIC-LOCATION:Europe/Paris
BEGIN:DAYLIGHT
DTSTART:20220327T030000
TZOFFSETFROM:+0100
TZOFFSETTO:+0200
TZNAME:CEST
END:DAYLIGHT
END:VTIMEZONE
END:VCALENDAR